BEGIN:VCALENDAR
VERSION:2.0
PRODID:-//https://aea.asn.au//NONSGML kigkonsult.se iCalcreator 2.23.20//
METHOD:PUBLISH
X-WR-CALNAME:JCal Pro Calendar
X-WR-CALDESC:Your online events calendar
X-WR-TIMEZONE:Australia/Melbourne
BEGIN:VTIMEZONE
TZID:UTC
BEGIN:STANDARD
DTSTART:20210226T172017
TZOFFSETFROM:+0000
TZOFFSETTO:+0000
END:STANDARD
END:VTIMEZONE
BEGIN:VEVENT
UID:20160503T080000UTC-62630b@https://aea.asn.au/joomla3/
DTSTAMP:20210226T172017Z
CATEGORIES:Bulletin
DESCRIPTION:<p>The <em>AE Bulletin</em> is the fortnightly <strong>email bu
 lletin</strong> of the Australasian Epidemiological Association (AEA). It 
 is emailed to members on the email distribution list.<br />Email bulletins
  may be posted on behalf of the AEA. Only bulletins which provide members 
 with notices of official AEA business and information on relevant employme
 nt opportunities\, training courses\, workshops and conferences will be po
 sted.</p>\n<p>Cost: $50 per advertisement\, $70 if also included on the we
 bsite<br />Distribution: Australasian Epidemiological Association members<
 br />Deadline: Two days prior to publishing date<em>.</em></p>\n<p>If you 
 would like to advertise through the bulletin please refer to the <a href='
 journal_advertising.htm'>Journal and Email Bulletin Advertising</a> sectio
 n of this website</p>\n<p>If you would like to remove yourself from the el
 ectronic mailing list\, please contact the <a href='maito:privacyofficer@a
 ea.asn.au'>AEA privacy officer</a>. If you have difficulties receiving or 
 reading email bulletins\, or wish to update your email details\, please co
 ntact the <span id='cloak69b1487d40d11fc071c47405e73a5ad7'>This email addr
 ess is being protected from spambots. You need JavaScript enabled to view 
 it.</span><span id='uncloak1'>This email address is being protected from s
 pambots. You need JavaScript enabled to view it.</span><script type='text/
 javascript'>window.docwritestring = ''\;document.getElementById('uncloak1'
 ).innerHTML = ''\;window.docwrite = document.write\;document.write=functio
 n(){window.docwritestring += [].concat.apply([]\, arguments).join('')\;}\;
 </script><script type='text/javascript'>
				document.getElementById('cloak69b1
 487d40d11fc071c47405e73a5ad7').innerHTML = ''\;
				var prefix = '&#109\;a' + '
 i&#108\;' + '&#116\;o'\;
				var path = 'hr' + 'ef' + '='\;
				var addy69b1487d40d1
 1fc071c47405e73a5ad7 = 'c&#111\;nv&#101\;nt&#105\;&#111\;n' + '&#64\;'\;
				ad
 dy69b1487d40d11fc071c47405e73a5ad7 = addy69b1487d40d11fc071c47405e73a5ad7 
 + '&#111\;pt&#117\;sh&#111\;m&#101\;' + '&#46\;' + 'c&#111\;m' + '&#46\;' 
 + '&#97\;&#117\;'\;
				var addy_text69b1487d40d11fc071c47405e73a5ad7 = 'C&#111
 \;nv&#101\;nt&#105\;&#111\;n Ass&#111\;c&#105\;&#97\;t&#101\;s'\;document.
 getElementById('cloak69b1487d40d11fc071c47405e73a5ad7').innerHTML += '<a '
  + path + '\'' + prefix + ':' + addy69b1487d40d11fc071c47405e73a5ad7 + '\'
 >'+addy_text69b1487d40d11fc071c47405e73a5ad7+'<\/a>'\;
		</script>.<!--  docu
 ment.write( '' )\; // --></p><script type='text/javascript'>document.getEl
 ementById('uncloak1').innerHTML = window.docwritestring\;window.docwritest
 ring = ''\;document.write = window.docwrite\;</script>
DTSTART:20160503T080000Z
RRULE:FREQ=WEEKLY;UNTIL=20220716T080000Z;INTERVAL=2;BYDAY=TU
SUMMARY:Bulletin Deadline
URL:https://aea.asn.au/calendars/115-bulletin/125-bulletin/1479-bulletin-de
 adline
X-ALT-DESC;FMTTYPE=TEXT/HTML:<p>The <em>AE Bulletin</em> is the fortnightly
  <strong>email bulletin</strong> of the Australasian Epidemiological Assoc
 iation (AEA). It is emailed to members on the email distribution list.<br 
 />Email bulletins may be posted on behalf of the AEA. Only bulletins which
  provide members with notices of official AEA business and information on 
 relevant employment opportunities\, training courses\, workshops and confe
 rences will be posted.</p>\n<p>Cost: $50 per advertisement\, $70 if also i
 ncluded on the website<br />Distribution: Australasian Epidemiological Ass
 ociation members<br />Deadline: Two days prior to publishing date<em>.</em
 ></p>\n<p>If you would like to advertise through the bulletin please refer
  to the <a href='journal_advertising.htm'>Journal and Email Bulletin Adver
 tising</a> section of this website</p>\n<p>If you would like to remove you
 rself from the electronic mailing list\, please contact the <a href='maito
 :privacyofficer@aea.asn.au'>AEA privacy officer</a>. If you have difficult
 ies receiving or reading email bulletins\, or wish to update your email de
 tails\, please contact the <span id='cloak69b1487d40d11fc071c47405e73a5ad7
 '>This email address is being protected from spambots. You need JavaScript
  enabled to view it.</span><span id='uncloak1'>This email address is being
  protected from spambots. You need JavaScript enabled to view it.</span><s
 cript type='text/javascript'>window.docwritestring = ''\;document.getEleme
 ntById('uncloak1').innerHTML = ''\;window.docwrite = document.write\;docum
 ent.write=function(){window.docwritestring += [].concat.apply([]\, argumen
 ts).join('')\;}\;</script><script type='text/javascript'>
				document.getEleme
 ntById('cloak69b1487d40d11fc071c47405e73a5ad7').innerHTML = ''\;
				var prefix
  = '&#109\;a' + 'i&#108\;' + '&#116\;o'\;
				var path = 'hr' + 'ef' + '='\;
				var
  addy69b1487d40d11fc071c47405e73a5ad7 = 'c&#111\;nv&#101\;nt&#105\;&#111\;
 n' + '&#64\;'\;
				addy69b1487d40d11fc071c47405e73a5ad7 = addy69b1487d40d11fc0
 71c47405e73a5ad7 + '&#111\;pt&#117\;sh&#111\;m&#101\;' + '&#46\;' + 'c&#11
 1\;m' + '&#46\;' + '&#97\;&#117\;'\;
				var addy_text69b1487d40d11fc071c47405e
 73a5ad7 = 'C&#111\;nv&#101\;nt&#105\;&#111\;n Ass&#111\;c&#105\;&#97\;t&#1
 01\;s'\;document.getElementById('cloak69b1487d40d11fc071c47405e73a5ad7').i
 nnerHTML += '<a ' + path + '\'' + prefix + ':' + addy69b1487d40d11fc071c47
 405e73a5ad7 + '\'>'+addy_text69b1487d40d11fc071c47405e73a5ad7+'<\/a>'\;
		</s
 cript>.<!--  document.write( '' )\; // --></p><script type='text/javascrip
 t'>document.getElementById('uncloak1').innerHTML = window.docwritestring\;
 window.docwritestring = ''\;document.write = window.docwrite\;</script>
END:VEVENT
END:VCALENDAR
